BEGIN:VCALENDAR
PRODID:-//dvv-bw.de//dvv.Portalplattform//DE
VERSION:2.0
METHOD:PUBLISH
BEGIN:VEVENT
DTSTART:20260819T133000Z
DTEND:20260819T153000Z
DTSTAMP:20260421T175937Z
UID:669722792-669722676-1787090400000
SUMMARY:Concertino der Jugend
LOCATION:Kath. Gemeindehaus Baiertal, Alte Hohl 5, 69168 Wiesloch
DESCRIPTION:19.08. 15.30 Uhr Concertino der Jugend im Katholischen Gemeindehaus Baiertal
CLASS:PUBLIC
X-ALT-DESC;FMTTYPE=text/html:19.08. 15.30 Uhr Concertino der Jugend im Katholischen Gemeindehaus Baiertal
END:VEVENT
END:VCALENDAR
