BEGIN:VCALENDAR
PRODID:-//dvv-bw.de//dvv.Portalplattform//DE
VERSION:2.0
METHOD:PUBLISH
BEGIN:VEVENT
DTSTART:20260510T150000Z
DTEND:20260510T170000Z
DTSTAMP:20260421T232411Z
UID:665796360-665796406-1778364000000
SUMMARY:Jahreskonzert der Stadtkapelle Wiesloch
LOCATION:Das Palatin\, Staufersaal\, Ringstraße 17-19\, 69168 Wiesloch
DESCRIPTION:Am Sonntag 10.05.2026 um 17 Uhr lädt die Stadtkapelle herzlich zu ihrem jährlichen Konzert im Palatin Wiesloch ein. Dieses Jahr werden die Jugendstadtkapelle und die Stadtkapelle dem Publikum die Vielfalt der Originalkompositionen für Blasorchester näherbringen. Die Jugendstadtkapelle wird mit dem anspruchsvollem Stück "Around the world in 80 days" von Otto M. Schwarz das bekannte Buch von Jules Vernes zum Leben erwecken. Lassen Sie sich weiterhin in die Tiefen des Ozeans und die unendlichen Weiten des Weltraums entführen. Im ersten Teil werden gleich 2 junge Solisten ihr Können zum Besten geben. Helena Luboeinski wird mit der Jugendstadtkapelle das bekannte Lied "I dreamed a dream" aus dem Musical "Les Miserables" interpretieren und Jakob Spiry stellt\, begleitet von der Stadtkapelle mit "Good Vibes" sein Können am Vibraphon unter Beweis. Der zweite Teil steht dann ganz im Zeichen einer besonderen Originalkomposition von Guido Rennert der die Geschichte der Stadt Hamburg mit "Hamburg - das Tor zur Welt" musikalisch aufbereitet hat.\nKarten gibt es ab 12 EUR (Kinder und Jugendliche bis 16 Jahre 6 EUR) unter\nhttps://www.reservix.de/p/reservix/group/532805 oder unter\nwww.stadtkapelle-Wiesloch.de
CLASS:PUBLIC
X-ALT-DESC;FMTTYPE=text/html:Am Sonntag 10.05.2026 um 17 Uhr lädt die Stadtkapelle herzlich zu ihrem jährlichen Konzert im Palatin Wiesloch ein. Dieses Jahr werden die Jugendstadtkapelle und die Stadtkapelle dem Publikum die Vielfalt der Originalkompositionen für Blasorchester näherbringen. Die Jugendstadtkapelle wird mit dem anspruchsvollem Stück "Around the world in 80 days" von Otto M. Schwarz das bekannte Buch von Jules Vernes zum Leben erwecken. Lassen Sie sich weiterhin in die Tiefen des Ozeans und die unendlichen Weiten des Weltraums entführen. Im ersten Teil werden gleich 2 junge Solisten ihr Können zum Besten geben. Helena Luboeinski wird mit der Jugendstadtkapelle das bekannte Lied "I dreamed a dream" aus dem Musical "Les Miserables" interpretieren und Jakob Spiry stellt\, begleitet von der Stadtkapelle mit "Good Vibes" sein Können am Vibraphon unter Beweis. Der zweite Teil steht dann ganz im Zeichen einer besonderen Originalkomposition von Guido Rennert der die Geschichte der Stadt Hamburg mit "Hamburg - das Tor zur Welt" musikalisch aufbereitet hat.<br>Karten gibt es ab 12 EUR (Kinder und Jugendliche bis 16 Jahre 6 EUR) unter<br>https://www.reservix.de/p/reservix/group/532805 oder unter<br>www.stadtkapelle-Wiesloch.de
END:VEVENT
END:VCALENDAR
