BEGIN:VCALENDAR
PRODID:-//dvv-bw.de//dvv.Portalplattform//DE
VERSION:2.0
METHOD:PUBLISH
BEGIN:VEVENT
DTSTART:20260801T093000Z
DTEND:20260801T113000Z
DTSTAMP:20260421T180238Z
UID:669722775-669722662-1785535200000
SUMMARY:KLANGOASE - 25 Minuten Orgelmusik
LOCATION:Evang. Stadtkirche\, Pfarrstraße 3
DESCRIPTION:KLANGOASE - 25 Minuten Orgelmusik
CLASS:PUBLIC
X-ALT-DESC;FMTTYPE=text/html:KLANGOASE - 25 Minuten Orgelmusik
END:VEVENT
END:VCALENDAR
