BEGIN:VCALENDAR
PRODID:-//dvv-bw.de//dvv.Portalplattform//DE
VERSION:2.0
METHOD:PUBLISH
BEGIN:VEVENT
DTSTART:20260314T090000Z
DTEND:20260314T110000Z
DTSTAMP:20260314T090000Z
UID:669976904-669976953-1773442800000
SUMMARY:Kindersachenflohmarkt im Ev Gemeindehaus
LOCATION:Evang. Gemeindehaus F5\, Friedrichstraße 5\, 69168 Wiesloch
DESCRIPTION:Am 14.03.2026 findet der Kindersachenflohmarkt der Ev. Kindertagesstätte Abenteuerland Wiesloch im evangelischen Gemeindehaus Wiesloch statt (Friedrichstraße 5).\nFür das leibliche Wohl wird mit Kaffee und Kuchen gesorgt.\nAuch dieses Jahr bieten wir wieder Kinderschminken an.\nDer Verkauf geht von 10-12 Uhr. Aufbau ab 9 Uhr\, Tisch wird gestellt.\nAnmeldung/Infos bitte über folgende Emailadresse: Flohmarkt.Abenteuerland@gmail.comDie Standgebühr beträgt 10€ oder 8€ + Kuchen (keine Sahnetorten).
CLASS:PUBLIC
X-ALT-DESC;FMTTYPE=text/html:Am 14.03.2026 findet der Kindersachenflohmarkt der Ev. Kindertagesstätte Abenteuerland Wiesloch im evangelischen Gemeindehaus Wiesloch statt (Friedrichstraße 5).<br>Für das leibliche Wohl wird mit Kaffee und Kuchen gesorgt.<br>Auch dieses Jahr bieten wir wieder Kinderschminken an.<br>Der Verkauf geht von 10-12 Uhr. Aufbau ab 9 Uhr\, Tisch wird gestellt.<br>Anmeldung/Infos bitte über folgende Emailadresse: Flohmarkt.Abenteuerland@gmail.comDie Standgebühr beträgt 10&euro; oder 8&euro; + Kuchen (keine Sahnetorten).
END:VEVENT
END:VCALENDAR
