BEGIN:VCALENDAR
PRODID:-//dvv-bw.de//dvv.Portalplattform//DE
VERSION:2.0
METHOD:PUBLISH
BEGIN:VEVENT
DTSTART:20260820T163000Z
DTEND:20260820T183000Z
DTSTAMP:20260421T162904Z
UID:669954257-669954154-1787176800000
SUMMARY:Klappstuhlkonzerte 2026
LOCATION:siehe Beschreibung, Ort: siehe Beschreibung
DESCRIPTION:Nähere Informationen zu den Künstlern und den Locations folgen zeitnahe zur Veranstaltung
CLASS:PUBLIC
X-ALT-DESC;FMTTYPE=text/html:Nähere Informationen zu den Künstlern und den Locations folgen zeitnahe zur Veranstaltung
END:VEVENT
END:VCALENDAR
