BEGIN:VCALENDAR
PRODID:-//dvv-bw.de//dvv.Portalplattform//DE
VERSION:2.0
METHOD:PUBLISH
BEGIN:VEVENT
DTSTART:20260626T183000Z
DTEND:20260626T203000Z
DTSTAMP:20260420T165202Z
UID:669725278-669722695-1782424800000
SUMMARY:Konzert im Jazzclub
LOCATION:Alter Bahnhof Wiesloch\, Bahnhofstraße 9\, 69168 Wiesloch
DESCRIPTION:Alle Konzerte ausfühlich hier: \nVeranstaltungen – Jazzclub Wiesloch
CLASS:PUBLIC
X-ALT-DESC;FMTTYPE=text/html:Alle Konzerte ausfühlich hier: <br>Veranstaltungen &ndash; Jazzclub Wiesloch
END:VEVENT
END:VCALENDAR
