BEGIN:VCALENDAR
PRODID:-//dvv-bw.de//dvv.Portalplattform//DE
VERSION:2.0
METHOD:PUBLISH
BEGIN:VEVENT
DTSTART:20260707T163000Z
DTEND:20260707T183000Z
DTSTAMP:20260420T170557Z
UID:670653363-670653256-1783375200000
SUMMARY:Kulturbühne 2026-So klingt Wiesloch
LOCATION:Gerbersruhpark\, Gerbersruhstraße\, 69168 Wiesloch
DESCRIPTION:Konzerttermine\nAlle Termine und Künstler auf einen Blick!\nalle Konzerte finden von 18:30 Uhr bis 20:30 Uhr im Gerbersruhpark statt\n \nDi.\, 16. Juni 2026 - BigBand im QuadratDi.\, 23. Juni 2026 - BajazzoDi.\, 30. Juni 2026 - Die SchlagerfuzziesDi.\, 07. Juli 2026 - Matt Wegner Trio Di.\, 14. Juli 2026 - San RemoDi.\, 21. Juli 2026 - WoodRock by Ahl\n \nEin buntes Programm unter dem Motto „So Klingt Wiesloch“.Zu den Konzerten ist man herzlich eingeladen\, seinen Picknick-Korb mitzubringen und sich so den Abend zusätzlich zu verschönern.
CLASS:PUBLIC
X-ALT-DESC;FMTTYPE=text/html:Konzerttermine<br>Alle Termine und Künstler auf einen Blick!<br>alle Konzerte finden von 18:30 Uhr bis 20:30 Uhr im Gerbersruhpark statt<br> <br>Di.\, 16. Juni 2026 - BigBand im QuadratDi.\, 23. Juni 2026 - BajazzoDi.\, 30. Juni 2026 - Die SchlagerfuzziesDi.\, 07. Juli 2026 - Matt Wegner Trio Di.\, 14. Juli 2026 - San RemoDi.\, 21. Juli 2026 - WoodRock by Ahl<br> <br>Ein buntes Programm unter dem Motto &bdquo;So Klingt Wiesloch&ldquo;.Zu den Konzerten ist man herzlich eingeladen\, seinen Picknick-Korb mitzubringen und sich so den Abend zusätzlich zu verschönern.
END:VEVENT
END:VCALENDAR
