BEGIN:VCALENDAR
PRODID:-//dvv-bw.de//dvv.Portalplattform//DE
VERSION:2.0
METHOD:PUBLISH
BEGIN:VEVENT
DTSTART:20260705T090000Z
DTEND:20260705T130000Z
DTSTAMP:20260420T195233Z
UID:670452661-670451852-1783202400000
SUMMARY:Oldies im Takt
LOCATION:Platz am Alten Stadtbahnhof\, Güterstraße 1\, 69168 Wiesloch
DESCRIPTION:Oldies im Takt
CLASS:PUBLIC
X-ALT-DESC;FMTTYPE=text/html:Oldies im Takt
END:VEVENT
END:VCALENDAR
