BEGIN:VCALENDAR
PRODID:-//dvv-bw.de//dvv.Portalplattform//DE
VERSION:2.0
METHOD:PUBLISH
BEGIN:VEVENT
DTSTART:20260702T170000Z
DTEND:20260702T190000Z
DTSTAMP:20260420T165152Z
UID:669722755-669722653-1782943200000
SUMMARY:Singen im Park 2026
LOCATION:Gerbersruhpark\, Gerbersruhstraße\, 69168 Wiesloch
DESCRIPTION:Singen im Park 2026
CLASS:PUBLIC
X-ALT-DESC;FMTTYPE=text/html:Singen im Park 2026
END:VEVENT
END:VCALENDAR
