BEGIN:VCALENDAR
PRODID:-//dvv-bw.de//dvv.Portalplattform//DE
VERSION:2.0
METHOD:PUBLISH
BEGIN:VEVENT
DTSTART:20260716T170000Z
DTEND:20260716T190000Z
DTSTAMP:20260422T023707Z
UID:669722758-669722653-1784152800000
SUMMARY:Singen im Park 2026
LOCATION:Gerbersruhpark\, Gerbersruhstraße\, 69168 Wiesloch
DESCRIPTION:Singen im Park 2026
CLASS:PUBLIC
X-ALT-DESC;FMTTYPE=text/html:Singen im Park 2026
END:VEVENT
END:VCALENDAR
