BEGIN:VCALENDAR
PRODID:-//dvv-bw.de//dvv.Portalplattform//DE
VERSION:2.0
METHOD:PUBLISH
BEGIN:VEVENT
DTSTART:20260614T160000Z
DTEND:20260614T180000Z
DTSTAMP:20260420T175550Z
UID:669722788-669722672-1781388000000
SUMMARY:10 Jahre Gemeindehaus F5
LOCATION:Evang. Gemeindehaus F5\, Friedrichstraße 5\, 69168 Wiesloch
DESCRIPTION:10 Jahre Gemeindehaus F5
CLASS:PUBLIC
X-ALT-DESC;FMTTYPE=text/html:10 Jahre Gemeindehaus F5
END:VEVENT
END:VCALENDAR
